BEGIN:VCALENDAR
CALSCALE:GREGORIAN
METHOD:PUBLISH
PRODID:-//my.smile2.de//NONSGML iCalcreator 2.6//
VERSION:2.0
BEGIN:VEVENT
UID:20260422T071348CEST-9609Hamli3@my.smile2.de
DTSTAMP:20260422T051348Z
CATEGORIES:Online-Seminar
DESCRIPTION:https://my.smile2.de/22100
DTSTART:20260526T190000
DTEND:20260526T200000
LOCATION:Internet
SUMMARY:service@ducation 2026 - Teil 5 – Die Service-Identifizierung – 
 Service-Typ & Wesensmerkmale
URL:https://my.smile2.de/22100
END:VEVENT
END:VCALENDAR
