BEGIN:VCALENDAR
CALSCALE:GREGORIAN
METHOD:PUBLISH
PRODID:-//my.smile2.de//NONSGML iCalcreator 2.6//
VERSION:2.0
BEGIN:VEVENT
UID:20260420T172801CEST-21404UcKc1@my.smile2.de
DTSTAMP:20260420T152801Z
CATEGORIES:Online-Seminar
DESCRIPTION:https://my.smile2.de/22262
DTSTART:20260507T190000
DTEND:20260507T200000
LOCATION:Internet
SUMMARY:Die größten Fehler und Best Practices bei der Einführung von Mic
 rosoft 365
URL:https://my.smile2.de/22262
END:VEVENT
END:VCALENDAR
