BEGIN:VCALENDAR
CALSCALE:GREGORIAN
METHOD:PUBLISH
PRODID:-//my.smile2.de//NONSGML iCalcreator 2.6//
VERSION:2.0
BEGIN:VEVENT
UID:20260423T124824CEST-1366uOBdVA@my.smile2.de
DTSTAMP:20260423T104824Z
CATEGORIES:Online-Seminar
DESCRIPTION:https://my.smile2.de/22280
DTSTART:20260512T200000
DTEND:20260512T210000
LOCATION:Internet
SUMMARY:Ein WIR schaffen! – Teil 2 der Seminarreihe<br />'Führung geht h
 eute anders' (Version 2026)
URL:https://my.smile2.de/22280
END:VEVENT
END:VCALENDAR
