BEGIN:VCALENDAR
CALSCALE:GREGORIAN
METHOD:PUBLISH
PRODID:-//my.smile2.de//NONSGML iCalcreator 2.6//
VERSION:2.0
BEGIN:VEVENT
UID:20260423T125246CEST-8165hSi8sJ@my.smile2.de
DTSTAMP:20260423T105246Z
CATEGORIES:Online-Seminar
DESCRIPTION:https://my.smile2.de/22281
DTSTART:20260813T200000
DTEND:20260813T210000
LOCATION:Internet
SUMMARY:Bewusst erfolgreich! – Teil 3 der Seminarreihe<br />'Führung geh
 t heute anders' (Version 2026)<br>Das Seminar zum Buch
URL:https://my.smile2.de/22281
END:VEVENT
END:VCALENDAR
