BEGIN:VCALENDAR
CALSCALE:GREGORIAN
METHOD:PUBLISH
PRODID:-//my.smile2.de//NONSGML iCalcreator 2.6//
VERSION:2.0
BEGIN:VEVENT
UID:20260423T125522CEST-04169kxSv7@my.smile2.de
DTSTAMP:20260423T105522Z
CATEGORIES:Online-Seminar
DESCRIPTION:https://my.smile2.de/22282
DTSTART:20261119T200000
DTEND:20261119T210000
LOCATION:Internet
SUMMARY:Warum wir gewinnen oder verlieren – Teil 4 der Seminarreihe<br />
 'Führung geht heute anders' (Version 2026)
URL:https://my.smile2.de/22282
END:VEVENT
END:VCALENDAR
